BEGIN:VCALENDAR
VERSION:2.0
PRODID:-//Business Volunteers Unlimited - ECPv6.15.20//NONSGML v1.0//EN
CALSCALE:GREGORIAN
METHOD:PUBLISH
X-WR-CALNAME:Business Volunteers Unlimited
X-ORIGINAL-URL:https://bvuvolunteers.org
X-WR-CALDESC:Events for Business Volunteers Unlimited
REFRESH-INTERVAL;VALUE=DURATION:PT1H
X-Robots-Tag:noindex
X-PUBLISHED-TTL:PT1H
BEGIN:VTIMEZONE
TZID:America/New_York
BEGIN:DAYLIGHT
TZOFFSETFROM:-0500
TZOFFSETTO:-0400
TZNAME:EDT
DTSTART:20220313T070000
END:DAYLIGHT
BEGIN:STANDARD
TZOFFSETFROM:-0400
TZOFFSETTO:-0500
TZNAME:EST
DTSTART:20221106T060000
END:STANDARD
BEGIN:DAYLIGHT
TZOFFSETFROM:-0500
TZOFFSETTO:-0400
TZNAME:EDT
DTSTART:20230312T070000
END:DAYLIGHT
BEGIN:STANDARD
TZOFFSETFROM:-0400
TZOFFSETTO:-0500
TZNAME:EST
DTSTART:20231105T060000
END:STANDARD
BEGIN:DAYLIGHT
TZOFFSETFROM:-0500
TZOFFSETTO:-0400
TZNAME:EDT
DTSTART:20240310T070000
END:DAYLIGHT
BEGIN:STANDARD
TZOFFSETFROM:-0400
TZOFFSETTO:-0500
TZNAME:EST
DTSTART:20241103T060000
END:STANDARD
END:VTIMEZONE
BEGIN:VEVENT
DTSTART;TZID=America/New_York:20230906T120000
DTEND;TZID=America/New_York:20230906T130000
DTSTAMP:20260424T055156
CREATED:20230517T164513Z
LAST-MODIFIED:20250729T210141Z
UID:21588-1694001600-1694005200@bvuvolunteers.org
SUMMARY:Tech Planning: ​What You Need and ​How to Fund It
DESCRIPTION:[spacer height=”20px”] \nREGISTRATION FOR THIS EVENT IS NOW CLOSED. Please join us for the remaining session on October 4th. \n[spacer height=”20px”] \nABOUT THE SESSION \n\n\n\n\n\n\nTechnology can improve efficiencies\, help better deliver on your mission\, and spawn innovation. Nonprofit technology environments are becoming more complex\, and it is more critical than ever to plan for the future. \nIn this session\, we will discuss: \n\nAssessment of your current technologies\nAlignment of your IT budget to the organization’s strategy\nPrioritizing expenditures\nLeveraging donations and resources\nWalking through a sample budget worksheet that explores key buckets of tech spending\n\n\n\n\n\n\n\n\nABOUT THE SPEAKER \n\n\n\n\n\nMelanie Meyer is Managing Director\, Customer Success for Tech Impact\, a nonprofit nonprofit leveraging technology to advance social impact. Melanie counsels and educates nonprofits on how to incorporate and use technology and the data that technology generates — to see what’s happening in the organization\, and make better decisions about how to operate\, serve and engage.   \n\n\n\n\n\n[spacer height=”20px”]\nABOUT THE SERIES \nThe past few years have prompted a sudden and sweeping shift to remote work. Many workplaces—nonprofits included—now rely on technology like never before. We navigate remote meetings\, virtual service provision\, and new “paperless” methods for nearly everything we do. To make a successful impact in the digital era\, nonprofit leaders must prioritize technology. \nIn partnership with Tech Impact and sponsored by The Cleveland Foundation\, BVU is excited to present a three-part Tech Webinar Series for nonprofit leaders and staff\, focusing on the following topics: \n\nAugust 9 | Leveraging Data to Tell Your ​Impact Story\nSeptember 6 |​ Tech Planning: ​What You Need and ​How to Fund It\nOctober 4 | Preventing a Data Breach: The #1 Priority for Nonprofit Leaders​ [REGISTER]\n\nAll webinars occur during the lunch hour (12-1pm). Although the webinars are free\, separate registration is required for each. \n  \nPlease reach out to Macin at msheeder@bvuvolunteers.org with any questions.
URL:https://bvuvolunteers.org/event/nonprofit-tech-series-2/
LOCATION:zoom
CATEGORIES:EDUCATE
ATTACH;FMTTYPE=image/png:https://bvuvolunteers.org/wp-content/uploads/2023/05/Events-Thumbnails-8.png
ORGANIZER;CN="BVU":MAILTO:info@bvuvolunteers.org
END:VEVENT
BEGIN:VEVENT
DTSTART;TZID=America/New_York:20230809T120000
DTEND;TZID=America/New_York:20230809T130000
DTSTAMP:20260424T055156
CREATED:20230517T165408Z
LAST-MODIFIED:20250729T210225Z
UID:21583-1691582400-1691586000@bvuvolunteers.org
SUMMARY:Leveraging Data ​to Tell Your Impact Story
DESCRIPTION:[spacer height=”20px”] \nREGISTRATION FOR THIS EVENT IS NOW CLOSED. \n[spacer height=”20px”] \nABOUT THIS SESSION \nLeveraging Data to Tell Your Impact Story\nWhen: Wed\, August 9 | 12:00-1:00pm\nWhere: Virtual (must register for Zoom access)\nCost: FREE\nFeaturing: Ryan Harrington\, Director of Strategy and Operations for the Data Innovation Lab\, Tech Impact \nIn today’s competitive nonprofit landscape\, it is more important than ever to be able to tell your impact story in a way that is clear\, concise\, and persuasive. Data storytelling is a powerful tool that can help you do just that. \nIn this FREE webinar\, we will discuss the basics of data storytelling and how you can use it to:\n🔍 Identify the key metrics that matter to your organization\n✨ Collect and analyze data in a way that is meaningful to your audience\n🌍 Create compelling visuals that tell your story\n📢 Communicate your impact story to a variety of audiences \nWe will also share examples of data storytelling from successful nonprofits and provide tips on how to get started. \nThis event is great for: Nonprofit executives\, marketing/communications professionals\, and anyone who has an impact story to tell! \n[spacer height=”20px”] \nABOUT THE SPEAKER \nRyan Harrington is the Director of Strategy and Operations for the Data Innovation Lab (DIL) at Tech Impact where he focuses on developing data science projects for social good. Previously\, Ryan was the lead data scientist at CompassRed Data Labs\, a data science and analytics consulting firm\, where his focus was on developing models using a combination of statistical methods and machine learning techniques. Outside of work\, he co-founded and co-organized Open Data Delaware\, an organization dedicated to improving data transparency within government institutions and applying data and technology to solve civic problems. Ryan holds a B.S. in environmental and business economics from Rutgers University and an M.S. in business analytics from Drexel University. \n[spacer height=”20px”] \nABOUT THE SERIES \nTo make a successful impact in the digital era\, nonprofit leaders must prioritize technology. In partnership with Tech Impact and sponsored by The Cleveland Foundation\, BVU is excited to present a three-part Tech Webinar Series for nonprofit leaders and staff\, focusing on the following topics: \nAugust 9 | Leveraging Data to Tell Your ​Impact Story\nSeptember 6 |​ Tech Planning: ​What You Need and ​How to Fund It (REGISTER)\nOctober 4 | Preventing a Data Breach: The #1 Priority for Nonprofit Leaders​ (REGISTER) \nAll webinars occur during the lunch hour (12-1pm). Although the sessions are free\, separate registration is required for each. \n  \nPlease reach out to Macin at msheeder@bvuvolunteers.org with any questions. \n 
URL:https://bvuvolunteers.org/event/nonprofit-tech-series-1/
LOCATION:zoom
CATEGORIES:EDUCATE
ATTACH;FMTTYPE=image/png:https://bvuvolunteers.org/wp-content/uploads/2023/05/Events-Thumbnails-8.png
ORGANIZER;CN="BVU":MAILTO:info@bvuvolunteers.org
END:VEVENT
END:VCALENDAR